BEGIN:VCALENDAR
VERSION:2.0
PRODID:-//The Mads Are Back - ECPv6.15.20//NONSGML v1.0//EN
CALSCALE:GREGORIAN
METHOD:PUBLISH
X-ORIGINAL-URL:https://www.themadsareback.com
X-WR-CALDESC:Events for The Mads Are Back
REFRESH-INTERVAL;VALUE=DURATION:PT1H
X-Robots-Tag:noindex
X-PUBLISHED-TTL:PT1H
BEGIN:VTIMEZONE
TZID:UTC
BEGIN:STANDARD
TZOFFSETFROM:+0000
TZOFFSETTO:+0000
TZNAME:UTC
DTSTART:20140101T000000
END:STANDARD
END:VTIMEZONE
BEGIN:VTIMEZONE
TZID:America/Chicago
BEGIN:DAYLIGHT
TZOFFSETFROM:-0600
TZOFFSETTO:-0500
TZNAME:CDT
DTSTART:20150308T080000
END:DAYLIGHT
BEGIN:STANDARD
TZOFFSETFROM:-0500
TZOFFSETTO:-0600
TZNAME:CST
DTSTART:20151101T070000
END:STANDARD
BEGIN:DAYLIGHT
TZOFFSETFROM:-0600
TZOFFSETTO:-0500
TZNAME:CDT
DTSTART:20160313T080000
END:DAYLIGHT
BEGIN:STANDARD
TZOFFSETFROM:-0500
TZOFFSETTO:-0600
TZNAME:CST
DTSTART:20161106T070000
END:STANDARD
BEGIN:DAYLIGHT
TZOFFSETFROM:-0600
TZOFFSETTO:-0500
TZNAME:CDT
DTSTART:20170312T080000
END:DAYLIGHT
BEGIN:STANDARD
TZOFFSETFROM:-0500
TZOFFSETTO:-0600
TZNAME:CST
DTSTART:20171105T070000
END:STANDARD
END:VTIMEZONE
BEGIN:VEVENT
DTSTART;TZID=UTC:20170216T193000
DTEND;TZID=UTC:20170216T220000
DTSTAMP:20260424T164636
CREATED:20170104T224737Z
LAST-MODIFIED:20251231T150908Z
UID:164-1487273400-1487282400@www.themadsareback.com
SUMMARY:Greenwich Odeum\, East Greenwich\, RI
DESCRIPTION:The Mads Are Back! Join Mystery Science Theater 3000’s Frank Conniff and Trace Beaulieu as they screen some of the worst movies ever made and “riff”\, or comedically make fun of\, them live in the same style as the Peabody Award-winning TV series.\n\nTickets $25. Doors at 6:30 PM. The Mads will be happy to meet\, greet and sign autographs before and after the show.\n\nWe look forward to seeing you there!
URL:https://www.themadsareback.com/event/greenwich-odeum-east-greenwich-ri/
LOCATION:Greenwich Odeum\, 59 Main St\, East Greenwich\, RI\, 02818
END:VEVENT
BEGIN:VEVENT
DTSTART;TZID=UTC:20170127T203000
DTEND;TZID=UTC:20170128T203000
DTSTAMP:20260424T164636
CREATED:20170113T074422Z
LAST-MODIFIED:20251231T150920Z
UID:169-1485549000-1485635400@www.themadsareback.com
SUMMARY:Alamo Drafthouse Cinema Park North\, San Antonio\, TX
DESCRIPTION:Two nights! Two different films riffed LIVE!\n\nJan 27\, 2017 8:30p\nJan 28\, 2017 8:30p\n\nThe Mads Are Back! Join Mystery Science Theater 3000’s Frank Conniff and Trace Beaulieu as they screen some of the worst movies ever made and “riff”\, or comedically make fun of\, them live in the same style as the Peabody Award-winning TV series.\n\nJOIN US before and after the show for a free meet-and-greet with Trace and TV’s Frank.
URL:https://www.themadsareback.com/event/alamo-drafthouse-cinema-park-north-san-antonio-tx/
LOCATION:Alamo Drafthouse Park North\, 618 NW Loop 410\, San Antonio\, TX\, 78216
END:VEVENT
BEGIN:VEVENT
DTSTART;TZID=UTC:20170120T210000
DTEND;TZID=UTC:20170120T223000
DTSTAMP:20260424T164636
CREATED:20161206T001648Z
LAST-MODIFIED:20251231T150930Z
UID:153-1484946000-1484951400@www.themadsareback.com
SUMMARY:SF Sketchfest\, San Francisco\, CA
DESCRIPTION:The Mads return to Sketchfest with yet another cinematic stinkaroo\, ripe for skewering in that classic MST3K style!!
URL:https://www.themadsareback.com/event/sf-sketchfest-san-francisco-ca/
LOCATION:Alamo Drafthouse at the New Mission\, 2550 Mission St\, San Francisco\, CA\, 94110\, United States
END:VEVENT
BEGIN:VEVENT
DTSTART;TZID=UTC:20170119T180000
DTEND;TZID=UTC:20170119T220000
DTSTAMP:20260424T164636
CREATED:20161206T002511Z
LAST-MODIFIED:20251231T150941Z
UID:157-1484848800-1484863200@www.themadsareback.com
SUMMARY:SF Sketchfest NightLife at the California Academy of Sciences
DESCRIPTION:SF Sketchfest is back for NightLife at the California Academy of Sciences\, an amazing night of comedy\, science\, eating and drinking for adults over 21!\n\nTaking over the Forum for some live riffing are twisted “Mystery Science Theater 3000” scientists Trace Beaulieu and Frank Conniff in The Mads Are Back\, along with Strangerer Things\, an improvised send up of last summer’s beloved 80’s-esque sci-fi series. In the African Hall\, witness some seriously funny Fake TED Talks with special guests. The Terrace is home to two live popular science-themed podcasts\, Eureka! and This Week in Science. In the Piazza\, check out the stars of truTV’s “Those Who Can’t” in The Grawlix and Friends hosted by Adam Cayton-Holland\, Andrew Orvedahl and Ben Roy\, as well as a stand-up nebula featuring Julie Ash\, Kaseem Bentley\, Josh Johnson\, Casey Ley\, Andrew Orolfo\, Greg Santos\, Jacob Sirof\, Ta’Vi and Emily Van Dyke. New Wave City’s DJ Shindog spins all night long in the Coral Reef.\n\nIt’s the biggest night of awesome\, geeky greatness this side of the galaxy! $15
URL:https://www.themadsareback.com/event/sf-sketchfest-nightlife-at-the-california-academy-of-sciences/
LOCATION:California Academy of Sciences\, 55 Concourse Dr\, San Francisco\, CA\, 94118\, United States
END:VEVENT
BEGIN:VEVENT
DTSTART;TZID=America/Chicago:20161209T190000
DTEND;TZID=America/Chicago:20161209T235500
DTSTAMP:20260424T164636
CREATED:20161205T234705Z
LAST-MODIFIED:20251231T150952Z
UID:145-1481310000-1481327700@www.themadsareback.com
SUMMARY:Logan Theatre\, Chicago\, IL
DESCRIPTION:Two shows!!!! Two different movies – One for the early show and one for the late show\n\nFriday Dec 9 – 7:00pm & 10:00pm\n\n17+ and over\n\nTickets: $35 in advance (per show) / $35 at the door (per show)
URL:https://www.themadsareback.com/event/logan-theatre-chicago-il/
LOCATION:Logan Theater\, 2646 N Milwaukee Ave\, Chicago\, IL\, 60647\, United States
END:VEVENT
BEGIN:VEVENT
DTSTART;TZID=UTC:20160805T200000
DTEND;TZID=UTC:20160805T235500
DTSTAMP:20260424T164636
CREATED:20160609T005431Z
LAST-MODIFIED:20251231T151003Z
UID:139-1470427200-1470441300@www.themadsareback.com
SUMMARY:Carolina Theatre of Durham\, NC
DESCRIPTION:We’ll be riffing a movie live on August 5th at 8:00pm at the Carolina Theatre of Durham\, NC! Tickets here.
URL:https://www.themadsareback.com/event/carolina-theatre-of-durham-nc/
LOCATION:Carolina Theatre of Durham\, 309 W Morgan St\, Durham\, NC\, 27701\, United States
END:VEVENT
BEGIN:VEVENT
DTSTART;TZID=UTC:20160729T090000
DTEND;TZID=UTC:20160730T220000
DTSTAMP:20260424T164636
CREATED:20160702T005051Z
LAST-MODIFIED:20251231T151013Z
UID:141-1469782800-1469916000@www.themadsareback.com
SUMMARY:Voodoo Comedy Playhouse\, Denver\, CO
DESCRIPTION:We’ll be riffing four different movies over two nights\, July 29th and 30th\, at the Voodoo Comedy Playhouse in Denver! Come join us at the venue where we played our first show just over a year ago\, 9pm Friday the 29th and 8pm Saturday the 30th. Tickets here.
URL:https://www.themadsareback.com/event/voodoo-comedy-playhouse-denver-co/
LOCATION:Voodoo Comedy Playhouse\, 1260 22nd St\, Denver\, CO\, 80205\, United States
END:VEVENT
BEGIN:VEVENT
DTSTART;TZID=UTC:20160708T120000
DTEND;TZID=UTC:20160710T170000
DTSTAMP:20260424T164636
CREATED:20160402T020320Z
LAST-MODIFIED:20251231T151023Z
UID:133-1467979200-1468170000@www.themadsareback.com
SUMMARY:O Comic Con\, Council Bluffs\, IA
DESCRIPTION:Join us at O Comic Con on July 8 – 10\, where we’ll be signing autographs and doing panels all three days!
URL:https://www.themadsareback.com/event/o-comic-con-council-bluffs-ia/
LOCATION:Mid-America Center\, 1 Arena Way\, Council Bluffs\, 51501
END:VEVENT
BEGIN:VEVENT
DTSTART;TZID=UTC:20160628T190000
DTEND;TZID=UTC:20160628T210000
DTSTAMP:20260424T164636
CREATED:20160402T022037Z
LAST-MODIFIED:20251231T150540Z
UID:135-1467140400-1467147600@www.themadsareback.com
SUMMARY:Rifftrax's MST3K Reunion\, Minneapolis\, State Theater
DESCRIPTION:We are VERY excited to be a part of Rifftrax’s live MST3K Reunion at the State Theater in Minneapolis on June 28th! We’ll be riffing shorts along with Mike\, Kevin\, Bill\, Mary Jo\, Bridget\, Joel\, and Jonah Ray\, who will be hosting the new MST3K revival series. If you aren’t able to make it in person\, be sure to check your local movie theaters\, as we’ll be simulcasting the show LIVE as a Fathom Event to more than 700 theaters nationwide! Check out the Kickstarter here for more information. Donations will be accepted in exchange for cool prizes from Rifftrax until April 8. Tickets go on sale here on April 15.
URL:https://www.themadsareback.com/event/rifftraxs-mst3k-reunion-minneapolis-state-theater/
LOCATION:State Theater\, 805 Hennepin Avenue\, Minneapolis\, 55402\, United States
END:VEVENT
BEGIN:VEVENT
DTSTART;TZID=UTC:20160526T190000
DTEND;TZID=UTC:20160526T220000
DTSTAMP:20260424T164636
CREATED:20160401T093648Z
LAST-MODIFIED:20251231T150527Z
UID:131-1464289200-1464300000@www.themadsareback.com
SUMMARY:Pensacola\, Jean & Paul Amos Performance Studio
DESCRIPTION:Join us for FREE in Pensacola\, FL at the Jean & Paul Amos Performance Studio on May 26th at 7:00pm! We’ll be talking about our journey with MST3K as well as riffing a bad movie. RSVP here – did we mention it’s free?
URL:https://www.themadsareback.com/event/pensacola-jean-paul-amos-performance-studio/
LOCATION:Jean & Paul Amos Performance Studio\, 1000 College Boulevard\, Pensacola\, 32504\, United States
END:VEVENT
BEGIN:VEVENT
DTSTART;TZID=UTC:20160513T200000
DTEND;TZID=UTC:20160514T000000
DTSTAMP:20260424T164636
CREATED:20160401T092720Z
LAST-MODIFIED:20251231T150514Z
UID:129-1463169600-1463184000@www.themadsareback.com
SUMMARY:Milwaukee\, Turner Hall
DESCRIPTION:We’re riffing at Turner Hall in Milwaukee on May 13th at 8:00pm! Tickets are here. We loved playing there as Cinematic Titanic and we’re excited to come back as the Mads!
URL:https://www.themadsareback.com/event/milwaukee-turner-hall/
LOCATION:Turner Hall\, 1040 N. 4th St. \, Milwaukee\, 53203\, United States
END:VEVENT
BEGIN:VEVENT
DTSTART;TZID=UTC:20160415T190000
DTEND;TZID=UTC:20160416T220000
DTSTAMP:20260424T164636
CREATED:20160401T091331Z
LAST-MODIFIED:20251231T150504Z
UID:127-1460746800-1460844000@www.themadsareback.com
SUMMARY:Chicago\, @North Bar
DESCRIPTION:We’ll be riffing at the @North Bar in Chicago on April 15th and 16th at 7:00 and 10:00pm each night! Stick around to see both movies that get the Mads treatment. Tickets available here.
URL:https://www.themadsareback.com/event/chicago-bound/
LOCATION:@North Bar\, 1637 W North Ave\, Chicago\, 60622\, United States
END:VEVENT
BEGIN:VEVENT
DTSTART;TZID=UTC:20160115T193000
DTEND;TZID=UTC:20160115T210000
DTSTAMP:20260424T164636
CREATED:20151123T062356Z
LAST-MODIFIED:20251231T150444Z
UID:66-1452886200-1452891600@www.themadsareback.com
SUMMARY:San Francisco\, SF Sketchfest
DESCRIPTION:The Mads will be at the Brava Theater in San Francisco for SF Sketchfest on January 15th at 7:30pm. Tickets here.
URL:https://www.themadsareback.com/event/san-francisco-sf-sketchfest/
LOCATION:Brava Theater\, 2781 24th St\, San Francisco\, CA\, 94110\, United States
END:VEVENT
BEGIN:VEVENT
DTSTART;TZID=UTC:20151212T190000
DTEND;TZID=UTC:20151212T233000
DTSTAMP:20260424T164636
CREATED:20151123T061616Z
LAST-MODIFIED:20251231T150433Z
UID:64-1449946800-1449963000@www.themadsareback.com
SUMMARY:St. Louis\, the Ivory Theatre
DESCRIPTION:The Mads will be at the Ivory Theater in St. Louis on December 12th at 7:00pm and 10:00pm. They’re also hosting their riff-writing workshop from noon to 3:00pm. Tickets here.
URL:https://www.themadsareback.com/event/st-louis-the-ivory-theatre/
LOCATION:The Ivory Theatre\, 	7620 Michigan Ave\, St. Louis\, MO\,  63111\, United States
END:VEVENT
END:VCALENDAR