BEGIN:VCALENDAR
VERSION:2.0
PRODID:-//The Mads Are Back - ECPv6.15.20//NONSGML v1.0//EN
CALSCALE:GREGORIAN
METHOD:PUBLISH
X-WR-CALNAME:The Mads Are Back
X-ORIGINAL-URL:https://www.themadsareback.com
X-WR-CALDESC:Events for The Mads Are Back
REFRESH-INTERVAL;VALUE=DURATION:PT1H
X-Robots-Tag:noindex
X-PUBLISHED-TTL:PT1H
BEGIN:VTIMEZONE
TZID:UTC
BEGIN:STANDARD
TZOFFSETFROM:+0000
TZOFFSETTO:+0000
TZNAME:UTC
DTSTART:20160101T000000
END:STANDARD
END:VTIMEZONE
BEGIN:VEVENT
DTSTART;TZID=UTC:20171110T180000
DTEND;TZID=UTC:20171111T180000
DTSTAMP:20260424T120112
CREATED:20170918T071209Z
LAST-MODIFIED:20260102T014742Z
UID:332-1510336800-1510423200@www.themadsareback.com
SUMMARY:Alamo Drafthouse - Sloans Lake (Denver)
DESCRIPTION:THE MADS Live Movie-Riffing with MST3K’s Frank Conniff and Trace Beaulieu\n\nThe Mads Are Back! Join Mystery Science Theater 3000’s Frank Conniff and Trace Beaulieu as they screen some of the worst movies ever made and “riff”\, or comedically make fun of\, them live in the same style as the Peabody Award-winning TV series.\n\nA different film each night! Meet and greet with Frank and Trace before and after the show at no additional fee at the brand new Sloan’s Lake Alamo Drafthouse location.\n\nFriday:\n\nhttps://drafthouse.com/denver/tickets/the-mads-are-back-live-with-frank-conniff-and-trace-beaulieu/tickets/0402_1178\n\nSaturday:\n\nhttps://drafthouse.com/denver/tickets/the-mads-are-back-live-with-frank-conniff-and-trace-beaulieu/tickets/0402_1179
URL:https://www.themadsareback.com/event/alamo-drafthouse-sloans-lake-denver/
END:VEVENT
BEGIN:VEVENT
DTSTART;TZID=UTC:20171103T190000
DTEND;TZID=UTC:20171104T190000
DTSTAMP:20260424T120112
CREATED:20170918T070714Z
LAST-MODIFIED:20260102T014754Z
UID:328-1509735600-1509822000@www.themadsareback.com
SUMMARY:Alamo Drafthouse - Lubbock\, TX
DESCRIPTION:The Mads Are Back! Join Mystery Science Theater 3000’s Frank Conniff and Trace Beaulieu as they screen some of the worst movies ever made and “riff”\, or comedically make fun of\, them live in the same style as the Peabody Award-winning TV series.\n\nTwo Nights • Two Different Films!\n\n \n\nTickets:\n\nhttps://drafthouse.com/lubbock/show/the-mads-are-back-live-with-frank-conniff-and-trace-beaulieu
URL:https://www.themadsareback.com/event/alamo-drafthouse-lubbock-tx/
END:VEVENT
BEGIN:VEVENT
DTSTART;TZID=UTC:20171027T190000
DTEND;TZID=UTC:20171028T190000
DTSTAMP:20260424T120112
CREATED:20170918T070324Z
LAST-MODIFIED:20260102T014804Z
UID:326-1509130800-1509217200@www.themadsareback.com
SUMMARY:The Hollywood Theater in Dormont - Pittsburgh\, PA
DESCRIPTION:The Mads are pleased to announce their return to Pittsburgh\, PA!\n\nThe Mads Are Back! Join Mystery Science Theater 3000’s Frank Conniff and Trace Beaulieu as they screen some of the worst movies ever made and “riff”\, or comedically make fun of\, them live in the same style as the Peabody Award-winning TV series.\n\nA different film each night! Meet and greet with Frank and Trace before and after the show at no additional fee.\n\nTicket links and more details coming soon.
URL:https://www.themadsareback.com/event/the-hollywood-theater-in-dormont-pittsburgh-pa/
END:VEVENT
BEGIN:VEVENT
DTSTART;TZID=UTC:20171024T193000
DTEND;TZID=UTC:20171025T193000
DTSTAMP:20260424T120112
CREATED:20170425T023748Z
LAST-MODIFIED:20260102T014815Z
UID:282-1508873400-1508959800@www.themadsareback.com
SUMMARY:ArtsQuest Center @ SteelStacks - Bethlehem\, PA
DESCRIPTION:Two Shows – Two Different Films!\n\nThe Mads Are Back! Join Mystery Science Theater 3000’s Frank Conniff and Trace Beaulieu as they screen some of the worst movies ever made and “riff”\, or comedically make fun of\, them live in the same style as the Peabody Award-winning TV series.\n\nJoin us for two nights of b-movie riffing antics at the ArtsQuest Theater. We’ll also be meeting and greeting with fans before and after the show at no additional charge.\n\nTickets on sale now!
URL:https://www.themadsareback.com/event/artsquest-center-steelstacks-bethlehem-pa/
LOCATION:Frank Banko Alehouse Cinemas\, 101 Founder's Way\, Bethlehem\, PA\, 18015
CATEGORIES:Live Show
END:VEVENT
BEGIN:VEVENT
DTSTART;TZID=UTC:20171020T190000
DTEND;TZID=UTC:20171021T190000
DTSTAMP:20260424T120112
CREATED:20170719T025908Z
LAST-MODIFIED:20260102T014825Z
UID:301-1508526000-1508612400@www.themadsareback.com
SUMMARY:Alamo Drafthouse - Phoenix\, AZ
DESCRIPTION:The Mads Are Back! Join Mystery Science Theater 3000’s Frank Conniff and Trace Beaulieu as they riff B-movies live and in-person at the Alamo Drafthouse Theater in Phoenix\, AZ.\n\nTwo shows\, two different films. We’ll be doing a free meet & greet before and after the shows!\n\nTickets available:\n\nhttps://drafthouse.com/phoenix/show/the-mads-are-back-live-with-frank-conniff-and-trace-beaulieu
URL:https://www.themadsareback.com/event/alamo-drafthouse-phoenix-az/
END:VEVENT
BEGIN:VEVENT
DTSTART;TZID=UTC:20171019T183000
DTEND;TZID=UTC:20171019T213000
DTSTAMP:20260424T120112
CREATED:20170918T065552Z
LAST-MODIFIED:20260102T014835Z
UID:321-1508437800-1508448600@www.themadsareback.com
SUMMARY:The Loft Cinema - Tucson\, AZ
DESCRIPTION:The Mads are back! Join Mystery Science Theatre 3000 stars Frank Conniff and Trace Beaulieu (MST3K’s bad movie mad scientists\, “TV’s Frank” and “Dr. Clayton Forrester”) as they screen some of the worst movies ever made and riff (or comedically make fun of) them LIVE in the same style as the Peabody Award-wining TV series. At this Loft Cinema event\, The Mads will riff the hilariously awful 1953 Ed Wood\, Jr. classic\, Glen or Glenda\, starring Bela Lugosi\, as well as a short film\, with a Q&A afterwards. There will also be a Meet & Greet before and after the show\, as time allows!\n\nGlen or Glenda\, the legendary debut film from director Ed Wood\, Jr. (the infamous visionary behind Plan 9 From Outer Space)\, is a hilariously confusing but gentle tale of a young “transvestite” (played by Ed himself) who must come to grips with his identity as an angora-loving cross-dresser while also struggling to find acceptance from his fiancé and society at large. Narrated by horror movie icon Bela Lugosi\, and featuring heaps of unrelated stock footage\, strange dream sequences and gloriously campy dialogue\, Glen or Glenda\, despite its many failings as a film\, helped revolutionize cinema by presenting a very progressive tale championing tolerance and kindness toward gender-nonconforming people … in 1953! “Pull the string! Pull the string!”
URL:https://www.themadsareback.com/event/the-loft-cinema-tucson-az/
END:VEVENT
BEGIN:VEVENT
DTSTART;TZID=UTC:20170929T190000
DTEND;TZID=UTC:20170930T190000
DTSTAMP:20260424T120112
CREATED:20170719T025204Z
LAST-MODIFIED:20260102T014845Z
UID:297-1506711600-1506798000@www.themadsareback.com
SUMMARY:Sun-Ray Cinema - Jacksonville\, FL
DESCRIPTION:A different show each night!\n\nThe Mads Are Back! Join Mystery Science Theater 3000’s Frank Conniff and Trace Beaulieu as they screen some of the worst movies ever made and “riff”\, or comedically make fun of\, them live in the same style as the Peabody Award-winning TV series.\n\nTwo nights\, two different films. Join us before and after the show for a meet & greet event (included in ticket price!)\n\n 
URL:https://www.themadsareback.com/event/sun-ray-cinema-jacksonville-fl/
END:VEVENT
BEGIN:VEVENT
DTSTART;TZID=UTC:20170922T200000
DTEND;TZID=UTC:20170923T200000
DTSTAMP:20260424T120112
CREATED:20170918T064759Z
LAST-MODIFIED:20260102T014857Z
UID:318-1506110400-1506196800@www.themadsareback.com
SUMMARY:Alamo Drafthouse\, Dallas/Forth Worth area
DESCRIPTION:THE MADS Live Movie-Riffing with MST3K’s Frank Conniff and Trace Beaulieu\n\nThe Mads Are Back! Join Mystery Science Theater 3000’s Frank Conniff and Trace Beaulieu as they screen some of the worst movies ever made and “riff”\, or comedically make fun of\, them live in the same style as the Peabody Award-winning TV series.\n\nTwo nights\, Two Different Films!\n\nJoin us before and after the show for a meet and greet event. (Included with admission)\n\nhttps://drafthouse.com/dfw/show/the-mads-are-back-live-with-frank-conniff-and-trace-beaulieu\n\n 
URL:https://www.themadsareback.com/event/alamo-drafthouse-dallasforth-worth-area/
LOCATION:Alamo Drafthouse Dallas/Fort Worth\, 100 South Central Expressway #14\, Richardson\, TX\, 75080
END:VEVENT
BEGIN:VEVENT
DTSTART;TZID=UTC:20170919T190000
DTEND;TZID=UTC:20170920T190000
DTSTAMP:20260424T120112
CREATED:20170918T064220Z
LAST-MODIFIED:20260102T014908Z
UID:314-1505847600-1505934000@www.themadsareback.com
SUMMARY:The Broad Theater\, New Orleans\, LA
DESCRIPTION:The Mads Are Back! Join Mystery Science Theater 3000’s Frank Conniff and Trace Beaulieu at The Broad Theater as they screen some of the worst movies ever made and “riff”\, or comedically make fun of\, them live in the same style as the Peabody Award-winning TV series.\n\nTwo nights\, two different films. Join us before and after the show for a meet & greet event (included in ticket price!). Only $30\n\nThese tickets won’t last long!\n\n7 PM Tuesday:\n\nhttps://ticketing.us.veezi.com/purchase/9902?siteToken=kw8k81c1gdyhh0x4e8k0e4nvy8\n\n7 PM Wednesday:\n\nhttps://ticketing.us.veezi.com/purchase/9903?siteToken=kw8k81c1gdyhh0x4e8k0e4nvy8
URL:https://www.themadsareback.com/event/the-broad-theater-new-orleans-la/
END:VEVENT
BEGIN:VEVENT
DTSTART;TZID=UTC:20170915T190000
DTEND;TZID=UTC:20170916T190000
DTSTAMP:20260424T120112
CREATED:20170918T073148Z
LAST-MODIFIED:20260102T014917Z
UID:344-1505502000-1505588400@www.themadsareback.com
SUMMARY:Alamo Drafthouse - El Paso\, TX
DESCRIPTION:The Mads Are Back! Join Mystery Science Theater 3000’s Frank Conniff and Trace Beaulieu at Alamo Drafthouse El Paso as they screen some of the worst movies ever made and “riff”\, or comedically make fun of\, them live in the same style as the Peabody Award-winning TV series.\n\nTwo nights\, two different films. Join us before and after the show for a meet & greet event (included in ticket price!)\n\nTickets now available!\n\nhttps://drafthouse.com/el-paso/show/the-mads-are-back-live-with-frank-conniff-and-trace-beaulieu
URL:https://www.themadsareback.com/event/alamo-drafthouse-el-paso-tx/
END:VEVENT
BEGIN:VEVENT
DTSTART;TZID=UTC:20170908T190000
DTEND;TZID=UTC:20170908T213000
DTSTAMP:20260424T120112
CREATED:20170719T024445Z
LAST-MODIFIED:20260102T014927Z
UID:293-1504897200-1504906200@www.themadsareback.com
SUMMARY:1st Ward Events at Chop Shop - Chicago\, IL
DESCRIPTION:One night\, 2 Different Films!\n\nThe Mads Are Back! Join Mystery Science Theater 3000’s Frank Conniff and Trace Beaulieu as they screen some of the worst movies ever made and riff\, or comedically make fun of\, them LIVE in the same style as the Peabody Award-winning TV series. The Mads will riff a film and a short\, and will do a Q&A afterwards. There will also be a Meet & Greet before and after the show.\n\n7:00 PM Early Show (Doors open at 6pm):\n\nhttp://www.chopshopchi.com/event/1521789-mads-frank-conniff-trace-chicago/\n\n9:30 PM Late Show (Doors open at 9pm):\n\nhttp://www.chopshopchi.com/event/1521793-mads-frank-conniff-trace-chicago/
URL:https://www.themadsareback.com/event/1st-ward-events-at-chop-shop-chicago-il/
END:VEVENT
BEGIN:VEVENT
DTSTART;TZID=UTC:20170823T190000
DTEND;TZID=UTC:20170824T190000
DTSTAMP:20260424T120112
CREATED:20170802T000444Z
LAST-MODIFIED:20260102T014937Z
UID:306-1503514800-1503601200@www.themadsareback.com
SUMMARY:Landmark's Main Art Theatre\, Royal Oak\, MI
DESCRIPTION:Two nights\, two different films!\n\nThe Mads Are Back! Join Mystery Science Theater 3000’s Frank Conniff and Trace Beaulieu as they screen some of the worst movies ever made and “riff”\, or comedically make fun of\, them live in the same style as the Peabody Award-winning TV series.\n\n$30 ticket price includes free meet and greet\, photos\, and autographs before and after the event.\n\nPG-13 for language and some adult humor.\n\nDirect ticket link for Wednesday\, August 23:\n\nhttps://www.landmarktheatres.com/Booking/main-art-theatre/4982323\n\nDirect ticket link for Thursday\, August 24:\n\nhttps://www.landmarktheatres.com/Booking/main-art-theatre/4982324
URL:https://www.themadsareback.com/event/landmarks-main-art-theatre-royal-oak-mi/
END:VEVENT
BEGIN:VEVENT
DTSTART;TZID=UTC:20170728T200000
DTEND;TZID=UTC:20170729T200000
DTSTAMP:20260424T120112
CREATED:20170403T233821Z
LAST-MODIFIED:20260102T014948Z
UID:272-1501272000-1501358400@www.themadsareback.com
SUMMARY:VooDoo Comedy Playhouse\, Denver\, CO
DESCRIPTION:TIX: http://vudu.lol/mst3k/\n\n\nJoin us for our 3rd annual appearance at the Voodoo! Two shows\, two different films – plus a live recording of the MOVIE SIGN PODCAST!\n\nShow – Friday\, July 28th\, 2017 • 8:00 – 10:00 PM\nPodcast – Saturday\, July 29th\, 2017 • 4:00 – 6:00 PM\nShow – Saturday\, July 29th\, 2017 • 8:00 – 10:00 PM\n\nThe Mads Are Back! Join Mystery Science Theater 3000’s Frank Conniff and Trace Beaulieu as they screen some of the worst movies ever made and “riff”\, or comedically make fun of\, them live in the same style as the Peabody Award-winning TV series.
URL:https://www.themadsareback.com/event/voodoo-comedy-playhouse-denver-co-2/
LOCATION:Voodoo Comedy Playhouse\, 1260 22nd St\, Denver\, CO\, 80205\, United States
CATEGORIES:Live Show
END:VEVENT
BEGIN:VEVENT
DTSTART;TZID=UTC:20170718T193000
DTEND;TZID=UTC:20170719T193000
DTSTAMP:20260424T120112
CREATED:20170719T022724Z
LAST-MODIFIED:20260102T014957Z
UID:287-1500406200-1500492600@www.themadsareback.com
SUMMARY:Alamo Drafthouse\, Springfield\, MO
DESCRIPTION:Two night event!\n\nThe Mads Are Back! Join Mystery Science Theater 3000’s Frank Conniff and Trace Beaulieu as they screen some of the worst movies ever made and riff\, or comedically make fun of\, them LIVE in the same style as the Peabody Award-winning TV series. The Mads will riff a film\, a short\, and do a Q&A afterwards. There will also be a Meet & Greet before and after the show.\n\nJoin us at the brand new Alamo Drafthouse Theater in Springfield\, Missouri for two nights of movie riffing madness. Each night features a different film! Seating is limited so get them while they last.
URL:https://www.themadsareback.com/event/alamo-drafthouse-springfield-mo/
END:VEVENT
BEGIN:VEVENT
DTSTART;TZID=UTC:20170713T190000
DTEND;TZID=UTC:20170714T190000
DTSTAMP:20260424T120112
CREATED:20170425T022907Z
LAST-MODIFIED:20260102T015009Z
UID:278-1499972400-1500058800@www.themadsareback.com
SUMMARY:Gateway Film Center\, Columbus\, OH
DESCRIPTION:A different show each night!\n\nThe Mads Are Back! Join Mystery Science Theater 3000’s Frank Conniff and Trace Beaulieu as they screen some of the worst movies ever made and “riff”\, or comedically make fun of\, them live in the same style as the Peabody Award-winning TV series.\n\nTwo nights\, two different films. Join us before and after the show for a meet & greet event (included in ticket price!)\n\nTicket links and additional info coming soon.
URL:https://www.themadsareback.com/event/gateway-film-center-columbus-oh/
LOCATION:Gateway Film Center\, 1550 N High St\, Columbus\, OH\, 43201
CATEGORIES:Live Show
END:VEVENT
BEGIN:VEVENT
DTSTART;TZID=UTC:20170615T190000
DTEND;TZID=UTC:20170615T230000
DTSTAMP:20260424T120112
CREATED:20170403T233305Z
LAST-MODIFIED:20260102T015019Z
UID:267-1497553200-1497567600@www.themadsareback.com
SUMMARY:Rifftrax Live: Summer Shorts Beach Party\, featuring The Mads\, Belcourt Theatre\, Nashville\, TN
DESCRIPTION:We’re heading back to Nashville\, the Beach Party Capital of the South\, for one hilarious night of educational shorts – riffed LIVE in front of a huge audience at the Belcourt Theatre! Mike\, Kevin and Bill return to the stage with RiffTrax regulars Bridget Nelson and Mary Jo Pehl\, along with special guests\, Frank Conniff and Trace Beaulieu\, to take turns riffing shorts in various permutations. The live show will culminate in a RIFF-A-PALOOZA with everyone on stage at the same time!\n\n 
URL:https://www.themadsareback.com/event/rifftrax-live-summer-shorts-beach-party-featuring-the-mads-belcourt-theatre-nashville-tn/
LOCATION:Belcourt Theatre\, 2102 Belcourt Ave\, Nashville\, TN\, 37212
CATEGORIES:Live Show
END:VEVENT
BEGIN:VEVENT
DTSTART;TZID=UTC:20170524T193000
DTEND;TZID=UTC:20170525T193000
DTSTAMP:20260424T120112
CREATED:20170306T030816Z
LAST-MODIFIED:20260102T015029Z
UID:244-1495654200-1495740600@www.themadsareback.com
SUMMARY:Riverview Theater\, Minneapolis\, MN
DESCRIPTION:The Mads Are Back! Mystery Science Theater 3000’s Frank Conniff and Trace Beaulieu return to Minnesota to screen some of the worst movies ever made and “riff”\, or comedically make fun of\, them live in the same style as the Peabody Award-winning TV series. Two shows only\, Wednesday and Thursday\, but EACH SHOW FEATURES DIFFERENT CONTENT! Different films each night!\n\nMay 24-25 at 7:30pm\nAdmission is $20 in advance or $25 at the door.
URL:https://www.themadsareback.com/event/riverview-theater-minneapolis-mn/
LOCATION:Riverview Theater Minneapolis\, 3800 42nd Ave S\, Minneapolis\, MN\, 55406
END:VEVENT
BEGIN:VEVENT
DTSTART;TZID=UTC:20170520T200000
DTEND;TZID=UTC:20170520T230000
DTSTAMP:20260424T120112
CREATED:20170223T084229Z
LAST-MODIFIED:20260102T015039Z
UID:225-1495310400-1495321200@www.themadsareback.com
SUMMARY:The Colonial Theatre\, Phoenixville\, PA
DESCRIPTION:Join us for our Live Riffing show May 20\, 2017 at the famous Colonial Theatre. We’ll meet and greet with our fans before and after the show! Hope to see you there.\n\nTickets $25-$30
URL:https://www.themadsareback.com/event/the-colonial-theatre-phoenixville-pa/
LOCATION:The Colonial Theatre\, 227 Bridge St\, Phoenixville\, PA\, 19460
END:VEVENT
BEGIN:VEVENT
DTSTART;TZID=UTC:20170513T193000
DTEND;TZID=UTC:20170514T180000
DTSTAMP:20260424T120112
CREATED:20170316T074602Z
LAST-MODIFIED:20251231T150153Z
UID:261-1494703800-1494784800@www.themadsareback.com
SUMMARY:Alamo Drafthouse Mason Park\, Houston area\, TX
DESCRIPTION:The Mads Are Back! Join Mystery Science Theater 3000’s Frank Conniff and Trace Beaulieu as they screen some of the worst movies ever made and “riff”\, or comedically make fun of\, them live in the same style as the Peabody Award-winning TV series.\n\nTwo shows\, two different films. We’ll be doing a free meet & greet before and after the shows!
URL:https://www.themadsareback.com/event/alamo-drafthouse-mason-park-houston-area-tx/
LOCATION:Alamo Drafthouse Mason Park\, 531 S Mason Rd\, Katy\, TX\, 77450
CATEGORIES:Live Show
END:VEVENT
BEGIN:VEVENT
DTSTART;TZID=UTC:20170504T200000
DTEND;TZID=UTC:20170505T200000
DTSTAMP:20260424T120112
CREATED:20170316T073410Z
LAST-MODIFIED:20251231T150711Z
UID:257-1493928000-1494014400@www.themadsareback.com
SUMMARY:Alberta Rose Theatre\, Portland\, OR
DESCRIPTION:Two nights – a different film each night! Celebrate Star Wars Day (May the Fourth be with you) with The Mads from Mystery Science Theater 3000!\n\nThe Mads are back! Mystery Science Theater 3000 stars Frank Conniff and Trace Beaulieu are taking movie riffing back onstage in their new live show\, for two nights only at the Alberta Rose Theatre. Audience Q & A to follow.\n\nDoors open at 7:00. Shows start at 8:00pm.\n\n$25 Advance\n$35 At the Door\n\nMinors OK when accompanied by a parent or guardian\n\nHere is the ticket link for May 4th and for May 5th
URL:https://www.themadsareback.com/event/alberta-rose-theatre-portland-or/
LOCATION:Alberta Rose Theatre\, 3000 NE Alberta St\, Portland\, OR\, 97211
CATEGORIES:Live Show
END:VEVENT
BEGIN:VEVENT
DTSTART;TZID=UTC:20170428T200000
DTEND;TZID=UTC:20170429T200000
DTSTAMP:20260424T120112
CREATED:20170223T081145Z
LAST-MODIFIED:20251231T150719Z
UID:221-1493409600-1493496000@www.themadsareback.com
SUMMARY:Alamo Drafthouse Dallas/Fort Worth (Richardson\, TX)
DESCRIPTION:The Mads Are Back! Join Mystery Science Theater 3000’s Frank Conniff and Trace Beaulieu as they screen some of the worst movies ever made and “riff”\, or comedically make fun of\, them live in the same style as the Peabody Award-winning TV series.\n\nTwo shows – two different films! Free meet and greet before and after the show (no additional charge). We hope to see you there!\n\nTicket link – Friday:\n\nhttps://drafthouse.com/dfw/tickets/the-mads-are-back-live-with-frank-conniff-and-trace-beaulieu/tickets/0701_60700\n\nTicket link – Saturday:\n\nhttps://drafthouse.com/dfw/tickets/the-mads-are-back-live-with-frank-conniff-and-trace-beaulieu/tickets/0701_60699
URL:https://www.themadsareback.com/event/alamo-drafthouse-dallasfort-worth-richardson-tx/
LOCATION:Alamo Drafthouse Dallas/Fort Worth\, 100 South Central Expressway #14\, Richardson\, TX\, 75080
END:VEVENT
BEGIN:VEVENT
DTSTART;TZID=UTC:20170421T200000
DTEND;TZID=UTC:20170422T200000
DTSTAMP:20260424T120112
CREATED:20170209T020734Z
LAST-MODIFIED:20251231T150732Z
UID:193-1492804800-1492891200@www.themadsareback.com
SUMMARY:Hollywood Theater in Dormont\, Pittsburgh\, PA
DESCRIPTION:Two nights! Two different films riffed LIVE!\n\nApr 21\, 2017 8:00p\nApr 22\, 2017 8:00p\n\nThe Mads Are Back! Join Mystery Science Theater 3000’s Frank Conniff and Trace Beaulieu as they screen some of the worst movies ever made and “riff”\, or comedically make fun of\, them live in the same style as the Peabody Award-winning TV series.\n\nJOIN US before and after the show for a free meet-and-greet with Trace and TV’s Frank. Doors open at 7pm.\n\n 
URL:https://www.themadsareback.com/event/hollywood-theater-in-dormont-pittsburgh-pa/
LOCATION:Hollywood Theater in Dormont\, 1449 Potomac Ave\, Pittsburgh\, PA\, 15216\, United States
END:VEVENT
BEGIN:VEVENT
DTSTART;TZID=UTC:20170414T190000
DTEND;TZID=UTC:20170415T190000
DTSTAMP:20260424T120112
CREATED:20170214T091228Z
LAST-MODIFIED:20251231T150743Z
UID:207-1492196400-1492282800@www.themadsareback.com
SUMMARY:Alamo Drafthouse\, Omaha\, NE
DESCRIPTION:The Mads are Back! Join TV’s Frank Conniff and Trace Beaulieu of Mystery Science Theater 3000 fame at the Alamo Drafthouse Omaha on April 14th and 15th for two nights of live movie riffing. Come early\, enjoy a beverage of your choosing\, and meet and greet with The Mads. Two shows\, two different films.\n\nTickets $32.25. Includes free VIP meet and greet plus photos and autographs before AND after the show …and maybe some last minute tax advice.
URL:https://www.themadsareback.com/event/alamo-drafthouse-omaha-ne/
LOCATION:Alamo Drafthouse Omaha\, 12750 Westport Pkwy\, La Vista\, NE\, 68138
END:VEVENT
BEGIN:VEVENT
DTSTART;TZID=UTC:20170407T210000
DTEND;TZID=UTC:20170408T210000
DTSTAMP:20260424T120112
CREATED:20170218T045211Z
LAST-MODIFIED:20251231T150754Z
UID:212-1491598800-1491685200@www.themadsareback.com
SUMMARY:Alamo Drafthouse\, Kansas City\, MO
DESCRIPTION:Join former Mystery Science Theater 3000 cast members Trace Beaulieu and TV’s Frank Conniff as they riff cheesy movies in front of a live audience. Two shows\, Two different films! The Mads will meet and greet fans before and after the show. Everyone is a VIP!\n\nTickets only $20.\n\nFriday:\n\nhttps://drafthouse.com/kansas-city/tickets/the-mads-are-back-live-with-frank-conniff-and-trace-beaulieu/tickets/0601_47939\n\nSaturday:\n\nhttps://drafthouse.com/kansas-city/tickets/the-mads-are-back-live-with-frank-conniff-and-trace-beaulieu/tickets/0601_47940
URL:https://www.themadsareback.com/event/alamo-drafthouse-kansas-city-mo/
LOCATION:Alamo Drafthouse Kansas City\, 1400 Main Street\, Kansas City\, MO\, 64105
END:VEVENT
BEGIN:VEVENT
DTSTART;TZID=UTC:20170331T193000
DTEND;TZID=UTC:20170401T193000
DTSTAMP:20260424T120112
CREATED:20170228T032821Z
LAST-MODIFIED:20251231T150804Z
UID:233-1490988600-1491075000@www.themadsareback.com
SUMMARY:Alamo Drafthouse DC Area
DESCRIPTION:The Mads Are Back! Join Mystery Science Theater 3000’s Frank Conniff and Trace Beaulieu as they screen some of the worst movies ever made and “riff”\, or comedically make fun of\, them live in the same style as the Peabody Award-winning TV series.\n\nTwo shows! Two different films! Free meet and greet before and after the show.\n\nJoin us!
URL:https://www.themadsareback.com/event/alamo-drafthouse-dc-area/
LOCATION:Alamo Drafthouse DC Area\, 20575 East Hampton Plaza\, Ashburn\, VA\, 20147
END:VEVENT
BEGIN:VEVENT
DTSTART;TZID=UTC:20170324T190000
DTEND;TZID=UTC:20170325T190000
DTSTAMP:20260424T120112
CREATED:20170228T034037Z
LAST-MODIFIED:20251231T150814Z
UID:239-1490382000-1490468400@www.themadsareback.com
SUMMARY:Alamo Drafthouse Ritz\, Austin\, TX
DESCRIPTION:The Mads Are Back! Join Mystery Science Theater 3000’s Frank Conniff and Trace Beaulieu\, and our friends from Master Pancake Theater\, as they screen some of the worst movies ever made and “riff”\, or comedically make fun of\, them live in the same style as the Peabody Award-winning TV series.\n\nFOUR Choose Your Own Pancake shows with Master Pancake Theater!\n\nCome meet and greet with us before the shows!\n\nDetails and ticket links coming soon.
URL:https://www.themadsareback.com/event/alamo-drafthouse-ritz-austin-tx/
LOCATION:Alamo Drafthouse Ritz\, Austin\, TX\, 320 E 6th St\, Austin\, TX\, 78701
END:VEVENT
BEGIN:VEVENT
DTSTART;TZID=UTC:20170311T110000
DTEND;TZID=UTC:20170312T170000
DTSTAMP:20260424T120112
CREATED:20170223T090136Z
LAST-MODIFIED:20251231T150825Z
UID:229-1489230000-1489338000@www.themadsareback.com
SUMMARY:Hall of Heroes Comic Con\, Elkhart\, IN
DESCRIPTION:We’ll be helping kick off the first annual HALL OF HEROES Comic Con in northern Indiana in March. Come for the Con\, stay for the riff! Show included with the ticket price.\n\n 
URL:https://www.themadsareback.com/event/hall-of-heroes-comic-con-elkhart-in/
LOCATION:The Lerner Theatre\, 410 S Main St\, Elkhart\, IN\, 46516
END:VEVENT
BEGIN:VEVENT
DTSTART;TZID=UTC:20170302T193000
DTEND;TZID=UTC:20170302T230000
DTSTAMP:20260424T120112
CREATED:20170223T075656Z
LAST-MODIFIED:20251231T150834Z
UID:217-1488483000-1488495600@www.themadsareback.com
SUMMARY:Alamo Drafthouse\, Corpus Christi\, TX
DESCRIPTION:We love Texas! The Mads will take over the brand new Alamo Drafthouse in Corpus Christi for a one-night movie riffing event. We’ll also be happy to meet and greet with you before and after the performance. Everyone is a VIP!
URL:https://www.themadsareback.com/event/alamo-drafthouse-corpus-christi-tx/
LOCATION:Alamo Drafthouse Corpus Christi\, 7601 S Staples St\, Corpus Christi\, TX\, 78413
END:VEVENT
BEGIN:VEVENT
DTSTART;TZID=UTC:20170218T210000
DTEND;TZID=UTC:20170218T210000
DTSTAMP:20260424T120112
CREATED:20170113T080505Z
LAST-MODIFIED:20251231T150845Z
UID:177-1487451600-1487451600@www.themadsareback.com
SUMMARY:Alamo Drafthouse Cinema\, Yonkers\, NY
DESCRIPTION:The Mads will be inflicting their beloved brand of B-movie riffing for one night only at the Alamo Drafthouse Cinema in Yonkers\, NY!\n\nOnly $20!
URL:https://www.themadsareback.com/event/alamo-drafthouse-cinema-yonkers-ny/
LOCATION:Alamo Drafthouse Yonkers\, 2548 Central Park Ave\, Yonkers\, NY\, 10710
END:VEVENT
BEGIN:VEVENT
DTSTART;TZID=UTC:20170217T190000
DTEND;TZID=UTC:20170217T190000
DTSTAMP:20260424T120112
CREATED:20170113T081935Z
LAST-MODIFIED:20251231T150857Z
UID:181-1487358000-1487358000@www.themadsareback.com
SUMMARY:Alamo Drafthouse Cinema - Brooklyn\, NY
DESCRIPTION:We’re bringing our Live riffing show to TV’s Frank’s own backyard. Join us at the Alamo Drafthouse Brooklyn! Get there early\, grab your favorite beverage\, and meet and greet with Trace and Frank before the show. Tickets only $20.
URL:https://www.themadsareback.com/event/alamo-drafthouse-cinema-brooklyn-ny/
LOCATION:Alamo Drafthouse Brooklyn\, 445 Albee Square W\, Brooklyn\, NY\, 11201
END:VEVENT
END:VCALENDAR