BEGIN:VCALENDAR
VERSION:2.0
PRODID:-//The Mads Are Back - ECPv6.15.20//NONSGML v1.0//EN
CALSCALE:GREGORIAN
METHOD:PUBLISH
X-WR-CALNAME:The Mads Are Back
X-ORIGINAL-URL:https://www.themadsareback.com
X-WR-CALDESC:Events for The Mads Are Back
REFRESH-INTERVAL;VALUE=DURATION:PT1H
X-Robots-Tag:noindex
X-PUBLISHED-TTL:PT1H
BEGIN:VTIMEZONE
TZID:UTC
BEGIN:STANDARD
TZOFFSETFROM:+0000
TZOFFSETTO:+0000
TZNAME:UTC
DTSTART:20160101T000000
END:STANDARD
END:VTIMEZONE
BEGIN:VEVENT
DTSTART;TZID=UTC:20170713T190000
DTEND;TZID=UTC:20170714T190000
DTSTAMP:20260424T033250
CREATED:20170425T022907Z
LAST-MODIFIED:20260102T015009Z
UID:278-1499972400-1500058800@www.themadsareback.com
SUMMARY:Gateway Film Center\, Columbus\, OH
DESCRIPTION:A different show each night!\n\nThe Mads Are Back! Join Mystery Science Theater 3000’s Frank Conniff and Trace Beaulieu as they screen some of the worst movies ever made and “riff”\, or comedically make fun of\, them live in the same style as the Peabody Award-winning TV series.\n\nTwo nights\, two different films. Join us before and after the show for a meet & greet event (included in ticket price!)\n\nTicket links and additional info coming soon.
URL:https://www.themadsareback.com/event/gateway-film-center-columbus-oh/
LOCATION:Gateway Film Center\, 1550 N High St\, Columbus\, OH\, 43201
CATEGORIES:Live Show
END:VEVENT
BEGIN:VEVENT
DTSTART;TZID=UTC:20170615T190000
DTEND;TZID=UTC:20170615T230000
DTSTAMP:20260424T033250
CREATED:20170403T233305Z
LAST-MODIFIED:20260102T015019Z
UID:267-1497553200-1497567600@www.themadsareback.com
SUMMARY:Rifftrax Live: Summer Shorts Beach Party\, featuring The Mads\, Belcourt Theatre\, Nashville\, TN
DESCRIPTION:We’re heading back to Nashville\, the Beach Party Capital of the South\, for one hilarious night of educational shorts – riffed LIVE in front of a huge audience at the Belcourt Theatre! Mike\, Kevin and Bill return to the stage with RiffTrax regulars Bridget Nelson and Mary Jo Pehl\, along with special guests\, Frank Conniff and Trace Beaulieu\, to take turns riffing shorts in various permutations. The live show will culminate in a RIFF-A-PALOOZA with everyone on stage at the same time!\n\n 
URL:https://www.themadsareback.com/event/rifftrax-live-summer-shorts-beach-party-featuring-the-mads-belcourt-theatre-nashville-tn/
LOCATION:Belcourt Theatre\, 2102 Belcourt Ave\, Nashville\, TN\, 37212
CATEGORIES:Live Show
END:VEVENT
BEGIN:VEVENT
DTSTART;TZID=UTC:20170513T193000
DTEND;TZID=UTC:20170514T180000
DTSTAMP:20260424T033250
CREATED:20170316T074602Z
LAST-MODIFIED:20251231T150153Z
UID:261-1494703800-1494784800@www.themadsareback.com
SUMMARY:Alamo Drafthouse Mason Park\, Houston area\, TX
DESCRIPTION:The Mads Are Back! Join Mystery Science Theater 3000’s Frank Conniff and Trace Beaulieu as they screen some of the worst movies ever made and “riff”\, or comedically make fun of\, them live in the same style as the Peabody Award-winning TV series.\n\nTwo shows\, two different films. We’ll be doing a free meet & greet before and after the shows!
URL:https://www.themadsareback.com/event/alamo-drafthouse-mason-park-houston-area-tx/
LOCATION:Alamo Drafthouse Mason Park\, 531 S Mason Rd\, Katy\, TX\, 77450
CATEGORIES:Live Show
END:VEVENT
BEGIN:VEVENT
DTSTART;TZID=UTC:20170504T200000
DTEND;TZID=UTC:20170505T200000
DTSTAMP:20260424T033250
CREATED:20170316T073410Z
LAST-MODIFIED:20251231T150711Z
UID:257-1493928000-1494014400@www.themadsareback.com
SUMMARY:Alberta Rose Theatre\, Portland\, OR
DESCRIPTION:Two nights – a different film each night! Celebrate Star Wars Day (May the Fourth be with you) with The Mads from Mystery Science Theater 3000!\n\nThe Mads are back! Mystery Science Theater 3000 stars Frank Conniff and Trace Beaulieu are taking movie riffing back onstage in their new live show\, for two nights only at the Alberta Rose Theatre. Audience Q & A to follow.\n\nDoors open at 7:00. Shows start at 8:00pm.\n\n$25 Advance\n$35 At the Door\n\nMinors OK when accompanied by a parent or guardian\n\nHere is the ticket link for May 4th and for May 5th
URL:https://www.themadsareback.com/event/alberta-rose-theatre-portland-or/
LOCATION:Alberta Rose Theatre\, 3000 NE Alberta St\, Portland\, OR\, 97211
CATEGORIES:Live Show
END:VEVENT
END:VCALENDAR