BEGIN:VCALENDAR
VERSION:2.0
PRODID:-//The Mads Are Back - ECPv6.15.20//NONSGML v1.0//EN
CALSCALE:GREGORIAN
METHOD:PUBLISH
X-WR-CALNAME:The Mads Are Back
X-ORIGINAL-URL:https://www.themadsareback.com
X-WR-CALDESC:Events for The Mads Are Back
REFRESH-INTERVAL;VALUE=DURATION:PT1H
X-Robots-Tag:noindex
X-PUBLISHED-TTL:PT1H
BEGIN:VTIMEZONE
TZID:UTC
BEGIN:STANDARD
TZOFFSETFROM:+0000
TZOFFSETTO:+0000
TZNAME:UTC
DTSTART:20160101T000000
END:STANDARD
END:VTIMEZONE
BEGIN:VEVENT
DTSTART;TZID=UTC:20181102T190000
DTEND;TZID=UTC:20181103T190000
DTSTAMP:20260424T001930
CREATED:20181030T201903Z
LAST-MODIFIED:20181030T201903Z
UID:599-1541185200-1541271600@www.themadsareback.com
SUMMARY:Times Cinema - Milwaukee\, WI
DESCRIPTION:Two nights! • A different film each night! \nThe Mads! Live Movie-Riffing with “TV’s Frank” Conniff and Trace Beaulieu from Mystery Science Theater 3000. \nJoin MST3K’s Frank Conniff and Trace Beaulieu at the The Times Cinema in Milwaukee\, WI for an evening of fun and laughter as they screen some endearingly bad films and roast them\, live-and-in-person\, in the same style as their classic TV series. Ticket price includes meet and greet event\, photos\, and autographs. \nIf this show were rated it would probably be PG-13\, but keep in mind it is a live show so anything could happen! \nTickets: \nFri 11/2: https://bit.ly/2OhfO3v \nSat 11/3: https://bit.ly/2C6RQ3H
URL:https://www.themadsareback.com/event/times-cinema-milwaukee-wi/
LOCATION:Times Cinema\, 5906 W Vliet St\, Milwaukee\, WI\, 53208
CATEGORIES:Live Show
END:VEVENT
BEGIN:VEVENT
DTSTART;TZID=UTC:20181026T190000
DTEND;TZID=UTC:20181027T190000
DTSTAMP:20260424T001930
CREATED:20180921T153659Z
LAST-MODIFIED:20180921T153659Z
UID:595-1540580400-1540666800@www.themadsareback.com
SUMMARY:The Parkway Theatre - Baltimore\, MD
DESCRIPTION:Two nights! • A different film each night! \nThe Mads! Live Movie-Riffing with “TV’s Frank” Conniff and Trace Beaulieu from Mystery Science Theater 3000. \nJoin MST3K’s Frank Conniff and Trace Beaulieu at the historic Parkway Theatre in Baltimore\, MD\, for an evening of fun and laughter as they screen some endearingly bad films and roast them\, live-and-in-person\, in the same style as their classic TV series. Ticket price includes meet and greet event\, photos\, and autographs. \nIf this show were rated it would probably be PG-13\, but keep in mind it is a live show so anything could happen!
URL:https://www.themadsareback.com/event/the-parkway-theatre-baltimore-md/
LOCATION:Parkway Theatre – Baltimore\, 5 W North Ave\, Baltimore\, MD\, 21201
CATEGORIES:Live Show
END:VEVENT
BEGIN:VEVENT
DTSTART;TZID=UTC:20181019T190000
DTEND;TZID=UTC:20181020T190000
DTSTAMP:20260424T001930
CREATED:20180921T150045Z
LAST-MODIFIED:20260210T183716Z
UID:584-1539975600-1540062000@www.themadsareback.com
SUMMARY:Alamo Drafthouse - Denver\, CO
DESCRIPTION:Two nights! • A different film each night!\n\nThe Mads! Live Movie-Riffing with “TV’s Frank” Conniff and Trace Beaulieu from Mystery Science Theater 3000.\n\nJoin MST3K’s Frank Conniff and Trace Beaulieu at the Alamo Drafthouse Sloan’s Lake for an evening of fun and laughter as they screen some endearingly bad films and roast them\, live-and-in-person\, in the same style as their classic TV series. Ticket price includes meet and greet event\, photos\, and autographs.\n\nIf this show were rated it would probably be PG-13\, but keep in mind it is a live show so anything could happen!\n\nTickets:\n\nhttps://drafthouse.com/denver/show/the-mads-are-back-live-with-frank-conniff-and-trace-beaulieu
URL:https://www.themadsareback.com/event/alamo-drafthouse-denver-co/
LOCATION:Alamo Drafthouse Sloans Lake\, 4255 W Colfax Ave\, Denver\, CO\, 80204
CATEGORIES:Live Show
END:VEVENT
BEGIN:VEVENT
DTSTART;TZID=UTC:20181016T190000
DTEND;TZID=UTC:20181017T190000
DTSTAMP:20260424T001930
CREATED:20180921T145634Z
LAST-MODIFIED:20180921T145634Z
UID:582-1539716400-1539802800@www.themadsareback.com
SUMMARY:The Broad Theater - New Orleans\, LA
DESCRIPTION:Two nights! • A different film each night! \nThe Mads! Live Movie-Riffing with “TV’s Frank” Conniff and Trace Beaulieu from Mystery Science Theater 3000. \nJoin MST3K’s Frank Conniff and Trace Beaulieu at the The Broad Theater in New Orleans\, LA for an evening of fun and laughter as they screen some endearingly bad films and roast them\, live-and-in-person\, in the same style as their classic TV series. Ticket price includes meet and greet event\, photos\, and autographs. \nIf this show were rated it would probably be PG-13\, but keep in mind it is a live show so anything could happen! \nTickets: \nOctober 16th: https://ticketing.us.veezi.com/purchase/17933?siteToken=kw8k81c1gdyhh0x4e8k0e4nvy8 \nOctober 17th: https://ticketing.us.veezi.com/purchase/17934?siteToken=kw8k81c1gdyhh0x4e8k0e4nvy8
URL:https://www.themadsareback.com/event/the-broad-theater-new-orleans-la-2/
LOCATION:The Broad Theater\, 636 N Broad St\, New Orleans\, LA\, 70119
CATEGORIES:Live Show
END:VEVENT
BEGIN:VEVENT
DTSTART;TZID=UTC:20181012T190000
DTEND;TZID=UTC:20181013T190000
DTSTAMP:20260424T001930
CREATED:20180921T152735Z
LAST-MODIFIED:20180921T152735Z
UID:592-1539370800-1539457200@www.themadsareback.com
SUMMARY:Alamo Drafthouse - Winchester\, VA
DESCRIPTION:THE STARS OF MST3K ARE LIVE AND READY TO RIFF!\nA different film will be mocked at each performance! \nThe Mads Are Back! Join Mystery Science Theater 3000’s Frank Conniff and Trace Beaulieu as they screen some of the worst movies ever made and “riff”\, or comedically make fun of\, them live in the same style as the Peabody Award-winning TV series.
URL:https://www.themadsareback.com/event/alamo-drafthouse-winchester-va/
LOCATION:Alamo Drafthouse Winchester\, 181 Kernstown Commons Blvd\, Winchester\, VA\, 22602
CATEGORIES:Live Show
END:VEVENT
BEGIN:VEVENT
DTSTART;TZID=UTC:20181009T190000
DTEND;TZID=UTC:20181010T190000
DTSTAMP:20260424T001930
CREATED:20180921T151904Z
LAST-MODIFIED:20180921T151904Z
UID:589-1539111600-1539198000@www.themadsareback.com
SUMMARY:North Park Theatre - Buffalo\, NY
DESCRIPTION:TWO NIGHTS ONLY! \nA DIFFERENT FILM RIFF EVERY NIGHT! \nJoin Mystery Science Theater 3000‘s Frank Conniff and Trace Beaulieu at the beautiful North Park Theatre in Buffalo\, NY for an evening of fun and laughter as they screen some endearingly bad films and roast them\, live-and-in-person\, in the same style as their classic TV series. \nTickets on sale here: https://bit.ly/2NOAwCT \nTicket price includes meet and greet event\, photos\, and autographs. \nIf this show were rated it would probably be PG-13\, but keep in mind it is a live show so anything could happen!
URL:https://www.themadsareback.com/event/north-park-theatre-buffalo-ny/
LOCATION:North Park Theatre\, 1428 Hertel Ave\, Buffalo\, NY\, 14216
CATEGORIES:Live Show
END:VEVENT
BEGIN:VEVENT
DTSTART;TZID=UTC:20180915T180000
DTEND;TZID=UTC:20180915T180000
DTSTAMP:20260424T001930
CREATED:20180718T210426Z
LAST-MODIFIED:20180718T210426Z
UID:579-1537034400-1537034400@www.themadsareback.com
SUMMARY:Regent Theatre Arlington - Boston Comedy Festival
DESCRIPTION:THE BOSTON COMEDY FESTIVAL PRESENTS: THE MADS From MST3K – Hilarious live commentary over some not-so-good films! \nSaturday\, September 15\, 6PM\nDoors at 4:30 for Meet & Greet \nThe Mads Are Back! Live Movie-Riffing with “TV’s Frank” Conniff and Trace Beaulieu from Mystery Science Theater 3000. \nJoin MST3K’s Frank Conniff and Trace Beaulieu at the Regent Theatre\, Arlington\, MA for an evening of fun and laughter as they screen some endearingly bad films and roast them\, live-and-in-person\, in the same style as the Peabody Award-winning TV series. The Mads will riff a film and a short\, and will do a Q&A afterwards. Ticket price includes meet and greet event\, photos\, and autographs. \nAll seats: $30 in advance and $35 day of show. \nIf this show were rated it would probably be PG-13\, but keep in mind it is a live show so anything could happen!
URL:https://www.themadsareback.com/event/regent-theatre-arlington-boston-comedy-festival/
LOCATION:Regent Theatre Arlington\, 7 Medford St\, Arlington\, MA\, 02474
CATEGORIES:Live Show
END:VEVENT
BEGIN:VEVENT
DTSTART;TZID=UTC:20180914T190000
DTEND;TZID=UTC:20180914T190000
DTSTAMP:20260424T001930
CREATED:20180605T024921Z
LAST-MODIFIED:20180615T185357Z
UID:540-1536951600-1536951600@www.themadsareback.com
SUMMARY:The Palace Danbury - Danbury\, CT
DESCRIPTION:THE MADS Live Movie-Riffing with “TV’s Frank” Conniff and Trace Beaulieu from Mystery Science Theater 3000. \nJoin MST3K’s Frank Conniff and Trace Beaulieu for an evening of fun and laughter at The Palace Theatre in Danbury\, CT as they screen some endearingly bad films and roast them\, live-and-in-person\, in the same style as their classic TV series. Ticket price includes meet and greet event\, photos\, and autographs. A different film each night! \nIf this show were rated it would probably be PG-13\, but keep in mind it is a live show so anything could happen! \nTickets available: \nhttps://thepalacedanbury.com/themads/
URL:https://www.themadsareback.com/event/the-palace-danbury-danbury-ct/
LOCATION:The Palace Danbury\, 165 Main St\, Danbury\, CT\, 06810
CATEGORIES:Live Show
END:VEVENT
BEGIN:VEVENT
DTSTART;TZID=UTC:20180908T200000
DTEND;TZID=UTC:20180908T200000
DTSTAMP:20260424T001930
CREATED:20180516T224445Z
LAST-MODIFIED:20180615T185125Z
UID:528-1536436800-1536436800@www.themadsareback.com
SUMMARY:Carolina Theatre of Durham\, NC
DESCRIPTION:THE CAROLINA THEATRE OF DURHAM PRESENTS: THE MADS ARE BACK\nSaturday\, September 8 \nThe Mads Are Back! Live Movie-Riffing with “TV’s Frank” Conniff and Trace Beaulieu from Mystery Science Theater 3000. \nJoin MST3K’s Frank Conniff and Trace Beaulieu at the Carolina Theatre for an evening of fun and laughter as they screen some endearingly bad films and roast them\, live-and-in-person\, in the same style as the Peabody Award-winning TV series. The Mads will riff a film and a short\, and will do a Q&A afterwards. Ticket price includes meet and greet event\, photos\, and autographs. \nIf this show were rated it would probably be PG-13\, but keep in mind it is a live show so anything could happen!
URL:https://www.themadsareback.com/event/carolina-theatre-of-durham-nc-2/
LOCATION:Carolina Theatre of Durham\, 309 W Morgan St\, Durham\, NC\, 27701\, United States
CATEGORIES:Live Show
END:VEVENT
BEGIN:VEVENT
DTSTART;TZID=UTC:20180905T190000
DTEND;TZID=UTC:20180906T190000
DTSTAMP:20260424T001930
CREATED:20180622T202342Z
LAST-MODIFIED:20180622T202342Z
UID:559-1536174000-1536260400@www.themadsareback.com
SUMMARY:Sun Ray Cinema - Jacksonville\, FL
DESCRIPTION:SEP 5\, 2018 — SEP 6\, 2018 \n– Two nights! • A different film each night! 7p.m. $30 a show or $45 for both \nThe Mads! Live Movie-Riffing with “TV’s Frank” Conniff and Trace Beaulieu from Mystery Science Theater 3000. \nJoin MST3K’s Frank Conniff and Trace Beaulieu at the Sun Ray Cinema in Jacksonville\, FL for an evening of fun and laughter as they screen some endearingly bad films and roast them\, live-and-in-person\, in the same style as their classic TV series. Ticket price includes meet and greet event\, photos\, and autographs. \nIf this show were rated it would probably be PG-13\, but keep in mind it is a live show so anything could happen! \nTickets: \nhttp://www.sunraycinema.com/events/the-mads-are-back/
URL:https://www.themadsareback.com/event/sun-ray-cinema-jacksonville-fl-2/
LOCATION:Sun-Ray Cinema\, 1028 Park St\, Jacksonville\, FL\, 32204
CATEGORIES:Live Show
END:VEVENT
BEGIN:VEVENT
DTSTART;TZID=UTC:20180824T190000
DTEND;TZID=UTC:20180825T190000
DTSTAMP:20260424T001930
CREATED:20180516T223919Z
LAST-MODIFIED:20180615T184759Z
UID:524-1535137200-1535223600@www.themadsareback.com
SUMMARY:Hollywood Blvd Cinema - Woodridge\, IL
DESCRIPTION:Two Nights • A Different Film Each Night! \nThe Mads Are Back! Live Movie-Riffing with “TV’s Frank” Conniff and Trace Beaulieu from Mystery Science Theater 3000. \nJoin MST3K’s Frank Conniff and Trace Beaulieu at the Hollywood Blvd Cinema in Woodridge\, IL for an evening of fun and laughter as they screen some endearingly bad films and roast them\, live-and-in-person\, in the same style as their classic TV series. Ticket price includes meet and greet event\, photos\, and autographs. \nIf this show were rated it would probably be PG-13\, but keep in mind it is a live show so anything could happen! \nTickets are $25 until June 1st\, $30 After June 1st. \nOn sale now: \nhttp://www.hollywoodblvdcinema.com/movies/celebrity-events/the-mads-are-back-live/?back=movies
URL:https://www.themadsareback.com/event/hollywood-blvd-cinema-woodridge-il/
LOCATION:Hollywood Blvd Cinema\, 1001 W 75th St\, Woodridge\, IL\, 60517
CATEGORIES:Live Show
END:VEVENT
BEGIN:VEVENT
DTSTART;TZID=UTC:20180803T193000
DTEND;TZID=UTC:20180804T193000
DTSTAMP:20260424T001930
CREATED:20180615T184356Z
LAST-MODIFIED:20180615T184356Z
UID:556-1533324600-1533411000@www.themadsareback.com
SUMMARY:Orpheum Theatre - Wichita\, KS
DESCRIPTION:Two Nights! A different film each night! \nTHE MADS Live Movie-Riffing with “TV’s Frank” Conniff and Trace Beaulieu from Mystery Science Theater 3000. \nJoin MST3K’s Frank Conniff and Trace Beaulieu for an evening of fun and laughter at The Orpheum Theatre in Wichita\, KS as they screen some endearingly bad films and roast them\, live-and-in-person\, in the same style as their classic TV series. Ticket price includes meet and greet event\, photos\, and autographs. A different film each night! \nTickets: \nhttp://www.selectaseat.com/tickets/Movies/mads-are-back-live-movie-riffing.php \nInfo: \nhttp://wichitaorpheum.com/events/the-mads-are-back/ \nAugust 3rd and 4th 7:30PM \nIf this show were rated it would probably be PG-13\, but keep in mind it is a live show so anything could happen!
URL:https://www.themadsareback.com/event/orpheum-theatre-wichita-ks/
LOCATION:Wichita Orpheum Theatre\, 200 N Broadway St\, Wichita\, KS\, 67202
CATEGORIES:Live Show
END:VEVENT
BEGIN:VEVENT
DTSTART;TZID=UTC:20180727T200000
DTEND;TZID=UTC:20180728T200000
DTSTAMP:20260424T001930
CREATED:20180516T225522Z
LAST-MODIFIED:20180615T183542Z
UID:530-1532721600-1532808000@www.themadsareback.com
SUMMARY:Voodoo Comedy Playhouse - Denver\, CO
DESCRIPTION:TICKETS ARE NOW ON SALE! \nTwo Nights • A Different Film Each Night! \nThe Mads Are Back Live Movie-Riffing with “TV’s Frank” Conniff and Trace Beaulieu from Mystery Science Theater 3000. \nJoin MST3K’s Frank Conniff and Trace Beaulieu at VooDoo Comedy for an evening of fun and laughter as they screen some endearingly bad films and roast them\, live-and-in-person\, in the same style as their classic TV series. Ticket price includes meet and greet event\, photos\, and autographs. \nTickets available now: \nFriday: https://voodoocomedy.com/event/the-mads-are-back-frank-conniff-trace-beaulieu-from-mst3k-live \nSaturday: https://voodoocomedy.com/event/the-mads-are-back-frank-conniff-trace-beaulieu-from-mst3k-live-2 \n$39 advance\, $49 door \nIf this show were rated it would probably be PG-13\, but keep in mind it is a live show so anything could happen!
URL:https://www.themadsareback.com/event/voodoo-comedy-playhouse-denver-co-3/
LOCATION:Voodoo Comedy Playhouse\, 1260 22nd St\, Denver\, CO\, 80205\, United States
CATEGORIES:Live Show
END:VEVENT
BEGIN:VEVENT
DTSTART;TZID=UTC:20180724T200000
DTEND;TZID=UTC:20180725T200000
DTSTAMP:20260424T001930
CREATED:20180605T023527Z
LAST-MODIFIED:20180605T023527Z
UID:538-1532462400-1532548800@www.themadsareback.com
SUMMARY:Ark Lodge Cinema - Seattle\, WA
DESCRIPTION:Two Nights • A Different Film Each Night! \nThe Mads Are Back Live Movie-Riffing with “TV’s Frank” Conniff and Trace Beaulieu from Mystery Science Theater 3000. \nJoin MST3K’s Frank Conniff and Trace Beaulieu at Columbia City’s Ark Lodge Cinema for an evening of fun and laughter as they screen some endearingly bad films and roast them\, live-and-in-person\, in the same style as their classic TV series. Ticket price includes meet and greet event\, photos\, and autographs. \nTickets on sale now: \nJuly 24 – http://cineticketing.com/websales/sales/main/arksea/actual_book?perfcode=44819 \nJuly 25 – http://cineticketing.com/websales/sales/main/arksea/actual_book?perfcode=44817 \nIf this show were rated it would probably be PG-13\, but keep in mind it is a live show so anything could happen!
URL:https://www.themadsareback.com/event/ark-lodge-cinema-seattle-wa/
LOCATION:Ark Lodge Cinemas\, 4816 Rainier Ave S\, Seattle\, WA\, 98118
CATEGORIES:Live Show
END:VEVENT
BEGIN:VEVENT
DTSTART;TZID=UTC:20180720T193000
DTEND;TZID=UTC:20180721T193000
DTSTAMP:20260424T001930
CREATED:20180628T040917Z
LAST-MODIFIED:20180628T040917Z
UID:574-1532115000-1532201400@www.themadsareback.com
SUMMARY:Alamo Drafthouse - Houston\, TX
DESCRIPTION:Two Nights • A Different Film Each Night • July 20th and 21st! \nThe Mads Are Back Live Movie-Riffing with “TV’s Frank” Conniff and Trace Beaulieu from Mystery Science Theater 3000. \nJoin MST3K’s Frank Conniff and Trace Beaulieu at the Alamo Drafthouse LaCenterra in Katy\, TX for an evening of fun and laughter as they screen some endearingly bad films and roast them\, live-and-in-person\, in the same style as their classic TV series. Ticket price includes meet and greet event\, photos\, and autographs. \nTickets on sale now: \nhttps://drafthouse.com/houston/show/the-mads-are-back-live-with-frank-conniff-and-trace-beaulieu \nIf this show were rated it would probably be PG-13\, but keep in mind it is a live show so anything could happen! \nPlease note: The new Alamo Drafthouse Cinema LaCenterra will replace Alamo Drafthouse Cinema Mason Park in Katy\, TX. Mason Park officially closed on Thursday\, June 21. The address for the new location is: \n2707 Commercial Center Blvd Suite K-100\nKaty\, TX 77494
URL:https://www.themadsareback.com/event/alamo-drafthouse-houston-tx/
LOCATION:Alamo Drafthouse Houston\, 2707 Commercial Center Blvd Ste K-100\, Katy\, TX\, 77494
CATEGORIES:Live Show
END:VEVENT
BEGIN:VEVENT
DTSTART;TZID=UTC:20180712T200000
DTEND;TZID=UTC:20180713T200000
DTSTAMP:20260424T001930
CREATED:20180516T223335Z
LAST-MODIFIED:20180615T183013Z
UID:522-1531425600-1531512000@www.themadsareback.com
SUMMARY:Gateway Film Center - Columbus\, OH
DESCRIPTION:Gateway Film Center is delighted to once again host comedians Trace Beaulieu and Frank Conniff\, who wrote and performed on the Emmy nominated\, Peabody award-winning TV series Mystery Science Theater 3000. \nYou might remember seeing some cheesy B – grade films on TV with the silhouette of theater seats at the bottom of the screen and some goofy characters making wise cracks back at the movie. Riffing! \nYeah\, that’s Mystery Science Theater 3000 or MST3K as it is also known. \nTrace played Mad Scientist Dr. Clayton Forrester\, and Frank played his lovable bumbling evil henchman TV’s Frank. \nToday Frank and Trace continue the tradition of MST3K style movie “riffing” LIVE. Its pretty simple: two guys armed with microphones\, a boat load of jokes\, a less than good movie\, and you\, the audience. \nAll seats $25. MyGFC Members $15 at the ticket center. Come early to meet & greet! \nTickets: http://gatewayfilmcenter.org/the-mads-are-back-live-movie-riffing-and-meet-and-greet/
URL:https://www.themadsareback.com/event/gateway-film-center-columbus-oh-2/
LOCATION:Gateway Film Center\, 1550 N High St\, Columbus\, OH\, 43201
CATEGORIES:Live Show
END:VEVENT
BEGIN:VEVENT
DTSTART;TZID=UTC:20180629T200000
DTEND;TZID=UTC:20180630T200000
DTSTAMP:20260424T001930
CREATED:20180503T181228Z
LAST-MODIFIED:20180615T182601Z
UID:518-1530302400-1530388800@www.themadsareback.com
SUMMARY:The Frida Cinema - Santa Ana\, CA
DESCRIPTION:Third Show Added!! \nTHE MADS Live Movie-Riffing with “TV’s Frank” Conniff and Trace Beaulieu from Mystery Science Theater 3000. \nJoin MST3K’s Frank Conniff and Trace Beaulieu for an evening of fun and laughter at The Frida Cinema in Santa Ana\, CA as they screen some endearingly bad films and roast them\, live-and-in-person\, in the same style as their classic TV series. Ticket price includes meet and greet event\, photos\, and autographs. A different film each night! \nDoors 7:30PM \, shows 8:00PM (Matinee 2:30PM) \nFriday 8pm\nhttp://thefridacinema.org/event/the-mads-live-friday-june-29/ \nSaturday 2:30pm\nhttp://thefridacinema.org/event/the-mads-live-saturday-june30-230pm/ \nSaturday 8pm\nhttp://thefridacinema.org/event/the-mads-live-saturday-june-30/ \nIf this show were rated it would probably be PG-13\, but keep in mind it is a live show so anything could happen!
URL:https://www.themadsareback.com/event/the-frida-cinema-santa-ana-ca/
LOCATION:The Frida Cinema\, 305 E 4th St\, Ste 100\, Santa Ana\, CA\, 92701
CATEGORIES:Live Show
END:VEVENT
BEGIN:VEVENT
DTSTART;TZID=UTC:20180622T190000
DTEND;TZID=UTC:20180623T190000
DTSTAMP:20260424T001930
CREATED:20180605T022914Z
LAST-MODIFIED:20180605T022914Z
UID:534-1529694000-1529780400@www.themadsareback.com
SUMMARY:Alamo Drafthouse - Austin\, TX
DESCRIPTION:Two nights\, a different film each night! \nTHE MADS Live Movie-Riffing with “TV’s Frank” Conniff and Trace Beaulieu from Mystery Science Theater 3000. \nJoin MST3K’s Frank Conniff and Trace Beaulieu for an evening of fun and laughter at The Alamo Drafthouse South Lamar as they screen some endearingly bad films and roast them\, live-and-in-person\, in the same style as their classic TV series. Ticket price includes meet and greet event\, photos\, and autographs. A different film each night! \nIf this show were rated it would probably be PG-13\, but keep in mind it is a live show so anything could happen! \nTickets available now: \nhttps://drafthouse.com/austin/show/the-mads-are-back-live-with-frank-conniff-and-trace-beaulieu
URL:https://www.themadsareback.com/event/alamo-drafthouse-austin-tx/
LOCATION:Alamo Drafthouse South Lamar\, 1120 S Lamar Blvd\, Austin\, TX\, 78704
CATEGORIES:Live Show
END:VEVENT
BEGIN:VEVENT
DTSTART;TZID=UTC:20171024T193000
DTEND;TZID=UTC:20171025T193000
DTSTAMP:20260424T001930
CREATED:20170425T023748Z
LAST-MODIFIED:20260102T014815Z
UID:282-1508873400-1508959800@www.themadsareback.com
SUMMARY:ArtsQuest Center @ SteelStacks - Bethlehem\, PA
DESCRIPTION:Two Shows – Two Different Films!\n\nThe Mads Are Back! Join Mystery Science Theater 3000’s Frank Conniff and Trace Beaulieu as they screen some of the worst movies ever made and “riff”\, or comedically make fun of\, them live in the same style as the Peabody Award-winning TV series.\n\nJoin us for two nights of b-movie riffing antics at the ArtsQuest Theater. We’ll also be meeting and greeting with fans before and after the show at no additional charge.\n\nTickets on sale now!
URL:https://www.themadsareback.com/event/artsquest-center-steelstacks-bethlehem-pa/
LOCATION:Frank Banko Alehouse Cinemas\, 101 Founder's Way\, Bethlehem\, PA\, 18015
CATEGORIES:Live Show
END:VEVENT
BEGIN:VEVENT
DTSTART;TZID=UTC:20170728T200000
DTEND;TZID=UTC:20170729T200000
DTSTAMP:20260424T001930
CREATED:20170403T233821Z
LAST-MODIFIED:20260102T014948Z
UID:272-1501272000-1501358400@www.themadsareback.com
SUMMARY:VooDoo Comedy Playhouse\, Denver\, CO
DESCRIPTION:TIX: http://vudu.lol/mst3k/\n\n\nJoin us for our 3rd annual appearance at the Voodoo! Two shows\, two different films – plus a live recording of the MOVIE SIGN PODCAST!\n\nShow – Friday\, July 28th\, 2017 • 8:00 – 10:00 PM\nPodcast – Saturday\, July 29th\, 2017 • 4:00 – 6:00 PM\nShow – Saturday\, July 29th\, 2017 • 8:00 – 10:00 PM\n\nThe Mads Are Back! Join Mystery Science Theater 3000’s Frank Conniff and Trace Beaulieu as they screen some of the worst movies ever made and “riff”\, or comedically make fun of\, them live in the same style as the Peabody Award-winning TV series.
URL:https://www.themadsareback.com/event/voodoo-comedy-playhouse-denver-co-2/
LOCATION:Voodoo Comedy Playhouse\, 1260 22nd St\, Denver\, CO\, 80205\, United States
CATEGORIES:Live Show
END:VEVENT
BEGIN:VEVENT
DTSTART;TZID=UTC:20170713T190000
DTEND;TZID=UTC:20170714T190000
DTSTAMP:20260424T001930
CREATED:20170425T022907Z
LAST-MODIFIED:20260102T015009Z
UID:278-1499972400-1500058800@www.themadsareback.com
SUMMARY:Gateway Film Center\, Columbus\, OH
DESCRIPTION:A different show each night!\n\nThe Mads Are Back! Join Mystery Science Theater 3000’s Frank Conniff and Trace Beaulieu as they screen some of the worst movies ever made and “riff”\, or comedically make fun of\, them live in the same style as the Peabody Award-winning TV series.\n\nTwo nights\, two different films. Join us before and after the show for a meet & greet event (included in ticket price!)\n\nTicket links and additional info coming soon.
URL:https://www.themadsareback.com/event/gateway-film-center-columbus-oh/
LOCATION:Gateway Film Center\, 1550 N High St\, Columbus\, OH\, 43201
CATEGORIES:Live Show
END:VEVENT
BEGIN:VEVENT
DTSTART;TZID=UTC:20170615T190000
DTEND;TZID=UTC:20170615T230000
DTSTAMP:20260424T001930
CREATED:20170403T233305Z
LAST-MODIFIED:20260102T015019Z
UID:267-1497553200-1497567600@www.themadsareback.com
SUMMARY:Rifftrax Live: Summer Shorts Beach Party\, featuring The Mads\, Belcourt Theatre\, Nashville\, TN
DESCRIPTION:We’re heading back to Nashville\, the Beach Party Capital of the South\, for one hilarious night of educational shorts – riffed LIVE in front of a huge audience at the Belcourt Theatre! Mike\, Kevin and Bill return to the stage with RiffTrax regulars Bridget Nelson and Mary Jo Pehl\, along with special guests\, Frank Conniff and Trace Beaulieu\, to take turns riffing shorts in various permutations. The live show will culminate in a RIFF-A-PALOOZA with everyone on stage at the same time!\n\n 
URL:https://www.themadsareback.com/event/rifftrax-live-summer-shorts-beach-party-featuring-the-mads-belcourt-theatre-nashville-tn/
LOCATION:Belcourt Theatre\, 2102 Belcourt Ave\, Nashville\, TN\, 37212
CATEGORIES:Live Show
END:VEVENT
BEGIN:VEVENT
DTSTART;TZID=UTC:20170513T193000
DTEND;TZID=UTC:20170514T180000
DTSTAMP:20260424T001930
CREATED:20170316T074602Z
LAST-MODIFIED:20251231T150153Z
UID:261-1494703800-1494784800@www.themadsareback.com
SUMMARY:Alamo Drafthouse Mason Park\, Houston area\, TX
DESCRIPTION:The Mads Are Back! Join Mystery Science Theater 3000’s Frank Conniff and Trace Beaulieu as they screen some of the worst movies ever made and “riff”\, or comedically make fun of\, them live in the same style as the Peabody Award-winning TV series.\n\nTwo shows\, two different films. We’ll be doing a free meet & greet before and after the shows!
URL:https://www.themadsareback.com/event/alamo-drafthouse-mason-park-houston-area-tx/
LOCATION:Alamo Drafthouse Mason Park\, 531 S Mason Rd\, Katy\, TX\, 77450
CATEGORIES:Live Show
END:VEVENT
BEGIN:VEVENT
DTSTART;TZID=UTC:20170504T200000
DTEND;TZID=UTC:20170505T200000
DTSTAMP:20260424T001930
CREATED:20170316T073410Z
LAST-MODIFIED:20251231T150711Z
UID:257-1493928000-1494014400@www.themadsareback.com
SUMMARY:Alberta Rose Theatre\, Portland\, OR
DESCRIPTION:Two nights – a different film each night! Celebrate Star Wars Day (May the Fourth be with you) with The Mads from Mystery Science Theater 3000!\n\nThe Mads are back! Mystery Science Theater 3000 stars Frank Conniff and Trace Beaulieu are taking movie riffing back onstage in their new live show\, for two nights only at the Alberta Rose Theatre. Audience Q & A to follow.\n\nDoors open at 7:00. Shows start at 8:00pm.\n\n$25 Advance\n$35 At the Door\n\nMinors OK when accompanied by a parent or guardian\n\nHere is the ticket link for May 4th and for May 5th
URL:https://www.themadsareback.com/event/alberta-rose-theatre-portland-or/
LOCATION:Alberta Rose Theatre\, 3000 NE Alberta St\, Portland\, OR\, 97211
CATEGORIES:Live Show
END:VEVENT
END:VCALENDAR